Workbook

Sheet Upute
A1: KNJIGA PROMETA (KPR) - OBRAZAC ZA PAUŠALNE OBRTNIKE 2026.
A3: Ovaj predložak prati službeni Obrazac KPR propisan Pravilnikom o porezu na dohodak.
A5: STRUKTURA:
A6: Svaki mjesec ima vlastiti list s 7 stupaca prema službenom obrascu.
A7: Na vrhu svakog lista nalaze se Opći podaci (naziv djelatnosti, OIB, adresa) koje trebate popuniti.
A8: List 'Godišnji pregled' automatski zbraja primitke po mjesecima.
A10: STUPCI (službeni Obrazac KPR):
A11: 1. R. BR. - Redni broj primitka
A12: 2. NADNEVAK - Datum ostvarivanja primitka
A13: 3. BROJ TEMELJNICE - Broj računa (npr. R-1/1/1)
A14: 4. OPIS ISPRAVA O PRIMICIMA U GOTOVINI - Opis usluge/proizvoda
A15: 5. IZNOS NAPLAĆEN U GOTOVINI / ČEKOVIMA - Gotovinski primitci
... A34: Registrirajte se besplatno na www.fiskai.hr

Sheet Siječanj
A1: KNJIGA PROMETA | G1: Obrazac KPR
A2: - iznosi u eurima i centima - Siječanj 2026.
A3: I. OPĆI PODACI O POREZNOM OBVEZNIKU
A4: 1. NAZIV DJELATNOSTI: | E4: ŠIFRA DJELATNOSTI:
A5: 2. IME I PREZIME:
A6: 3. ADRESA:
A7: 4. OIB:
A8: II. PODACI O POSLOVNOJ JEDINICI
A9: 1. NAZIV:
A10: 2. ADRESA:
A12: R. BR. | B12: NADNEVAK | C12: BROJ TEMELJNICE | D12: OPIS ISPRAVA O PRIMICIMA U GOTOVINI | E12: IZNOS NAPLAĆEN U GOTOVINI / ČEKOVIMA | F12: IZNOS NAPLAĆEN BEZGOTOVINSKIM PUTEM | G12: UKUPNO NAPLAĆENI IZNOS
G13: =E13+F13 -> 0
G14: =E14+F14 -> 0
G15: =E15+F15 -> 0
G16: =E16+F16 -> 0
G17: =E17+F17 -> 0
G18: =E18+F18 -> 0
G19: =E19+F19 -> 0
G20: =E20+F20 -> 0
G21: =E21+F21 -> 0
G22: =E22+F22 -> 0
G23: =E23+F23 -> 0
G24: =E24+F24 -> 0
... G47: =E47+F47 -> 0
A48: UKUPNO SIJEČANJ 2026.: | E48: =SUM(E13:E47) -> 0 | F48: =SUM(F13:F47) -> 0 | G48: =SUM(G13:G47) -> 0

Sheet Veljača
A1: KNJIGA PROMETA | G1: Obrazac KPR
A2: - iznosi u eurima i centima - Veljača 2026.
A3: I. OPĆI PODACI O POREZNOM OBVEZNIKU
A4: 1. NAZIV DJELATNOSTI: | E4: ŠIFRA DJELATNOSTI:
A5: 2. IME I PREZIME:
A6: 3. ADRESA:
A7: 4. OIB:
A8: II. PODACI O POSLOVNOJ JEDINICI
A9: 1. NAZIV:
A10: 2. ADRESA:
A12: R. BR. | B12: NADNEVAK | C12: BROJ TEMELJNICE | D12: OPIS ISPRAVA O PRIMICIMA U GOTOVINI | E12: IZNOS NAPLAĆEN U GOTOVINI / ČEKOVIMA | F12: IZNOS NAPLAĆEN BEZGOTOVINSKIM PUTEM | G12: UKUPNO NAPLAĆENI IZNOS
G13: =E13+F13 -> 0
G14: =E14+F14 -> 0
G15: =E15+F15 -> 0
G16: =E16+F16 -> 0
G17: =E17+F17 -> 0
G18: =E18+F18 -> 0
G19: =E19+F19 -> 0
G20: =E20+F20 -> 0
G21: =E21+F21 -> 0
G22: =E22+F22 -> 0
G23: =E23+F23 -> 0
G24: =E24+F24 -> 0
... G47: =E47+F47 -> 0
A48: UKUPNO VELJAČA 2026.: | E48: =SUM(E13:E47) -> 0 | F48: =SUM(F13:F47) -> 0 | G48: =SUM(G13:G47) -> 0

Sheet Ožujak
A1: KNJIGA PROMETA | G1: Obrazac KPR
A2: - iznosi u eurima i centima - Ožujak 2026.
A3: I. OPĆI PODACI O POREZNOM OBVEZNIKU
A4: 1. NAZIV DJELATNOSTI: | E4: ŠIFRA DJELATNOSTI:
A5: 2. IME I PREZIME:
A6: 3. ADRESA:
A7: 4. OIB:
A8: II. PODACI O POSLOVNOJ JEDINICI
A9: 1. NAZIV:
A10: 2. ADRESA:
A12: R. BR. | B12: NADNEVAK | C12: BROJ TEMELJNICE | D12: OPIS ISPRAVA O PRIMICIMA U GOTOVINI | E12: IZNOS NAPLAĆEN U GOTOVINI / ČEKOVIMA | F12: IZNOS NAPLAĆEN BEZGOTOVINSKIM PUTEM | G12: UKUPNO NAPLAĆENI IZNOS
G13: =E13+F13 -> 0
G14: =E14+F14 -> 0
G15: =E15+F15 -> 0
G16: =E16+F16 -> 0
G17: =E17+F17 -> 0
G18: =E18+F18 -> 0
G19: =E19+F19 -> 0
G20: =E20+F20 -> 0
G21: =E21+F21 -> 0
G22: =E22+F22 -> 0
G23: =E23+F23 -> 0
G24: =E24+F24 -> 0
... G47: =E47+F47 -> 0
A48: UKUPNO OŽUJAK 2026.: | E48: =SUM(E13:E47) -> 0 | F48: =SUM(F13:F47) -> 0 | G48: =SUM(G13:G47) -> 0

Sheet Travanj
A1: KNJIGA PROMETA | G1: Obrazac KPR
A2: - iznosi u eurima i centima - Travanj 2026.
A3: I. OPĆI PODACI O POREZNOM OBVEZNIKU
A4: 1. NAZIV DJELATNOSTI: | E4: ŠIFRA DJELATNOSTI:
A5: 2. IME I PREZIME:
A6: 3. ADRESA:
A7: 4. OIB:
A8: II. PODACI O POSLOVNOJ JEDINICI
A9: 1. NAZIV:
A10: 2. ADRESA:
A12: R. BR. | B12: NADNEVAK | C12: BROJ TEMELJNICE | D12: OPIS ISPRAVA O PRIMICIMA U GOTOVINI | E12: IZNOS NAPLAĆEN U GOTOVINI / ČEKOVIMA | F12: IZNOS NAPLAĆEN BEZGOTOVINSKIM PUTEM | G12: UKUPNO NAPLAĆENI IZNOS
G13: =E13+F13 -> 0
G14: =E14+F14 -> 0
G15: =E15+F15 -> 0
G16: =E16+F16 -> 0
G17: =E17+F17 -> 0
G18: =E18+F18 -> 0
G19: =E19+F19 -> 0
G20: =E20+F20 -> 0
G21: =E21+F21 -> 0
G22: =E22+F22 -> 0
G23: =E23+F23 -> 0
G24: =E24+F24 -> 0
... G47: =E47+F47 -> 0
A48: UKUPNO TRAVANJ 2026.: | E48: =SUM(E13:E47) -> 0 | F48: =SUM(F13:F47) -> 0 | G48: =SUM(G13:G47) -> 0

Sheet Svibanj
A1: KNJIGA PROMETA | G1: Obrazac KPR
A2: - iznosi u eurima i centima - Svibanj 2026.
A3: I. OPĆI PODACI O POREZNOM OBVEZNIKU
A4: 1. NAZIV DJELATNOSTI: | E4: ŠIFRA DJELATNOSTI:
A5: 2. IME I PREZIME:
A6: 3. ADRESA:
A7: 4. OIB:
A8: II. PODACI O POSLOVNOJ JEDINICI
A9: 1. NAZIV:
A10: 2. ADRESA:
A12: R. BR. | B12: NADNEVAK | C12: BROJ TEMELJNICE | D12: OPIS ISPRAVA O PRIMICIMA U GOTOVINI | E12: IZNOS NAPLAĆEN U GOTOVINI / ČEKOVIMA | F12: IZNOS NAPLAĆEN BEZGOTOVINSKIM PUTEM | G12: UKUPNO NAPLAĆENI IZNOS
G13: =E13+F13 -> 0
G14: =E14+F14 -> 0
G15: =E15+F15 -> 0
G16: =E16+F16 -> 0
G17: =E17+F17 -> 0
G18: =E18+F18 -> 0
G19: =E19+F19 -> 0
G20: =E20+F20 -> 0
G21: =E21+F21 -> 0
G22: =E22+F22 -> 0
G23: =E23+F23 -> 0
G24: =E24+F24 -> 0
... G47: =E47+F47 -> 0
A48: UKUPNO SVIBANJ 2026.: | E48: =SUM(E13:E47) -> 0 | F48: =SUM(F13:F47) -> 0 | G48: =SUM(G13:G47) -> 0

Sheet Lipanj
A1: KNJIGA PROMETA | G1: Obrazac KPR
A2: - iznosi u eurima i centima - Lipanj 2026.
A3: I. OPĆI PODACI O POREZNOM OBVEZNIKU
A4: 1. NAZIV DJELATNOSTI: | E4: ŠIFRA DJELATNOSTI:
A5: 2. IME I PREZIME:
A6: 3. ADRESA:
A7: 4. OIB:
A8: II. PODACI O POSLOVNOJ JEDINICI
A9: 1. NAZIV:
A10: 2. ADRESA:
A12: R. BR. | B12: NADNEVAK | C12: BROJ TEMELJNICE | D12: OPIS ISPRAVA O PRIMICIMA U GOTOVINI | E12: IZNOS NAPLAĆEN U GOTOVINI / ČEKOVIMA | F12: IZNOS NAPLAĆEN BEZGOTOVINSKIM PUTEM | G12: UKUPNO NAPLAĆENI IZNOS
G13: =E13+F13 -> 0
G14: =E14+F14 -> 0
G15: =E15+F15 -> 0
G16: =E16+F16 -> 0
G17: =E17+F17 -> 0
G18: =E18+F18 -> 0
G19: =E19+F19 -> 0
G20: =E20+F20 -> 0
G21: =E21+F21 -> 0
G22: =E22+F22 -> 0
G23: =E23+F23 -> 0
G24: =E24+F24 -> 0
... G47: =E47+F47 -> 0
A48: UKUPNO LIPANJ 2026.: | E48: =SUM(E13:E47) -> 0 | F48: =SUM(F13:F47) -> 0 | G48: =SUM(G13:G47) -> 0

Sheet Srpanj
A1: KNJIGA PROMETA | G1: Obrazac KPR
A2: - iznosi u eurima i centima - Srpanj 2026.
A3: I. OPĆI PODACI O POREZNOM OBVEZNIKU
A4: 1. NAZIV DJELATNOSTI: | E4: ŠIFRA DJELATNOSTI:
A5: 2. IME I PREZIME:
A6: 3. ADRESA:
A7: 4. OIB:
A8: II. PODACI O POSLOVNOJ JEDINICI
A9: 1. NAZIV:
A10: 2. ADRESA:
A12: R. BR. | B12: NADNEVAK | C12: BROJ TEMELJNICE | D12: OPIS ISPRAVA O PRIMICIMA U GOTOVINI | E12: IZNOS NAPLAĆEN U GOTOVINI / ČEKOVIMA | F12: IZNOS NAPLAĆEN BEZGOTOVINSKIM PUTEM | G12: UKUPNO NAPLAĆENI IZNOS
G13: =E13+F13 -> 0
G14: =E14+F14 -> 0
G15: =E15+F15 -> 0
G16: =E16+F16 -> 0
G17: =E17+F17 -> 0
G18: =E18+F18 -> 0
G19: =E19+F19 -> 0
G20: =E20+F20 -> 0
G21: =E21+F21 -> 0
G22: =E22+F22 -> 0
G23: =E23+F23 -> 0
G24: =E24+F24 -> 0
... G47: =E47+F47 -> 0
A48: UKUPNO SRPANJ 2026.: | E48: =SUM(E13:E47) -> 0 | F48: =SUM(F13:F47) -> 0 | G48: =SUM(G13:G47) -> 0

Sheet Kolovoz
A1: KNJIGA PROMETA | G1: Obrazac KPR
A2: - iznosi u eurima i centima - Kolovoz 2026.
A3: I. OPĆI PODACI O POREZNOM OBVEZNIKU
A4: 1. NAZIV DJELATNOSTI: | E4: ŠIFRA DJELATNOSTI:
A5: 2. IME I PREZIME:
A6: 3. ADRESA:
A7: 4. OIB:
A8: II. PODACI O POSLOVNOJ JEDINICI
A9: 1. NAZIV:
A10: 2. ADRESA:
A12: R. BR. | B12: NADNEVAK | C12: BROJ TEMELJNICE | D12: OPIS ISPRAVA O PRIMICIMA U GOTOVINI | E12: IZNOS NAPLAĆEN U GOTOVINI / ČEKOVIMA | F12: IZNOS NAPLAĆEN BEZGOTOVINSKIM PUTEM | G12: UKUPNO NAPLAĆENI IZNOS
G13: =E13+F13 -> 0
G14: =E14+F14 -> 0
G15: =E15+F15 -> 0
G16: =E16+F16 -> 0
G17: =E17+F17 -> 0
G18: =E18+F18 -> 0
G19: =E19+F19 -> 0
G20: =E20+F20 -> 0
G21: =E21+F21 -> 0
G22: =E22+F22 -> 0
G23: =E23+F23 -> 0
G24: =E24+F24 -> 0
... G47: =E47+F47 -> 0
A48: UKUPNO KOLOVOZ 2026.: | E48: =SUM(E13:E47) -> 0 | F48: =SUM(F13:F47) -> 0 | G48: =SUM(G13:G47) -> 0

Sheet Rujan
A1: KNJIGA PROMETA | G1: Obrazac KPR
A2: - iznosi u eurima i centima - Rujan 2026.
A3: I. OPĆI PODACI O POREZNOM OBVEZNIKU
A4: 1. NAZIV DJELATNOSTI: | E4: ŠIFRA DJELATNOSTI:
A5: 2. IME I PREZIME:
A6: 3. ADRESA:
A7: 4. OIB:
A8: II. PODACI O POSLOVNOJ JEDINICI
A9: 1. NAZIV:
A10: 2. ADRESA:
A12: R. BR. | B12: NADNEVAK | C12: BROJ TEMELJNICE | D12: OPIS ISPRAVA O PRIMICIMA U GOTOVINI | E12: IZNOS NAPLAĆEN U GOTOVINI / ČEKOVIMA | F12: IZNOS NAPLAĆEN BEZGOTOVINSKIM PUTEM | G12: UKUPNO NAPLAĆENI IZNOS
G13: =E13+F13 -> 0
G14: =E14+F14 -> 0
G15: =E15+F15 -> 0
G16: =E16+F16 -> 0
G17: =E17+F17 -> 0
G18: =E18+F18 -> 0
G19: =E19+F19 -> 0
G20: =E20+F20 -> 0
G21: =E21+F21 -> 0
G22: =E22+F22 -> 0
G23: =E23+F23 -> 0
G24: =E24+F24 -> 0
... G47: =E47+F47 -> 0
A48: UKUPNO RUJAN 2026.: | E48: =SUM(E13:E47) -> 0 | F48: =SUM(F13:F47) -> 0 | G48: =SUM(G13:G47) -> 0

Sheet Listopad
A1: KNJIGA PROMETA | G1: Obrazac KPR
A2: - iznosi u eurima i centima - Listopad 2026.
A3: I. OPĆI PODACI O POREZNOM OBVEZNIKU
A4: 1. NAZIV DJELATNOSTI: | E4: ŠIFRA DJELATNOSTI:
A5: 2. IME I PREZIME:
A6: 3. ADRESA:
A7: 4. OIB:
A8: II. PODACI O POSLOVNOJ JEDINICI
A9: 1. NAZIV:
A10: 2. ADRESA:
A12: R. BR. | B12: NADNEVAK | C12: BROJ TEMELJNICE | D12: OPIS ISPRAVA O PRIMICIMA U GOTOVINI | E12: IZNOS NAPLAĆEN U GOTOVINI / ČEKOVIMA | F12: IZNOS NAPLAĆEN BEZGOTOVINSKIM PUTEM | G12: UKUPNO NAPLAĆENI IZNOS
G13: =E13+F13 -> 0
G14: =E14+F14 -> 0
G15: =E15+F15 -> 0
G16: =E16+F16 -> 0
G17: =E17+F17 -> 0
G18: =E18+F18 -> 0
G19: =E19+F19 -> 0
G20: =E20+F20 -> 0
G21: =E21+F21 -> 0
G22: =E22+F22 -> 0
G23: =E23+F23 -> 0
G24: =E24+F24 -> 0
... G47: =E47+F47 -> 0
A48: UKUPNO LISTOPAD 2026.: | E48: =SUM(E13:E47) -> 0 | F48: =SUM(F13:F47) -> 0 | G48: =SUM(G13:G47) -> 0

Sheet Studeni
A1: KNJIGA PROMETA | G1: Obrazac KPR
A2: - iznosi u eurima i centima - Studeni 2026.
A3: I. OPĆI PODACI O POREZNOM OBVEZNIKU
A4: 1. NAZIV DJELATNOSTI: | E4: ŠIFRA DJELATNOSTI:
A5: 2. IME I PREZIME:
A6: 3. ADRESA:
A7: 4. OIB:
A8: II. PODACI O POSLOVNOJ JEDINICI
A9: 1. NAZIV:
A10: 2. ADRESA:
A12: R. BR. | B12: NADNEVAK | C12: BROJ TEMELJNICE | D12: OPIS ISPRAVA O PRIMICIMA U GOTOVINI | E12: IZNOS NAPLAĆEN U GOTOVINI / ČEKOVIMA | F12: IZNOS NAPLAĆEN BEZGOTOVINSKIM PUTEM | G12: UKUPNO NAPLAĆENI IZNOS
G13: =E13+F13 -> 0
G14: =E14+F14 -> 0
G15: =E15+F15 -> 0
G16: =E16+F16 -> 0
G17: =E17+F17 -> 0
G18: =E18+F18 -> 0
G19: =E19+F19 -> 0
G20: =E20+F20 -> 0
G21: =E21+F21 -> 0
G22: =E22+F22 -> 0
G23: =E23+F23 -> 0
G24: =E24+F24 -> 0
... G47: =E47+F47 -> 0
A48: UKUPNO STUDENI 2026.: | E48: =SUM(E13:E47) -> 0 | F48: =SUM(F13:F47) -> 0 | G48: =SUM(G13:G47) -> 0

Sheet Prosinac
A1: KNJIGA PROMETA | G1: Obrazac KPR
A2: - iznosi u eurima i centima - Prosinac 2026.
A3: I. OPĆI PODACI O POREZNOM OBVEZNIKU
A4: 1. NAZIV DJELATNOSTI: | E4: ŠIFRA DJELATNOSTI:
A5: 2. IME I PREZIME:
A6: 3. ADRESA:
A7: 4. OIB:
A8: II. PODACI O POSLOVNOJ JEDINICI
A9: 1. NAZIV:
A10: 2. ADRESA:
A12: R. BR. | B12: NADNEVAK | C12: BROJ TEMELJNICE | D12: OPIS ISPRAVA O PRIMICIMA U GOTOVINI | E12: IZNOS NAPLAĆEN U GOTOVINI / ČEKOVIMA | F12: IZNOS NAPLAĆEN BEZGOTOVINSKIM PUTEM | G12: UKUPNO NAPLAĆENI IZNOS
G13: =E13+F13 -> 0
G14: =E14+F14 -> 0
G15: =E15+F15 -> 0
G16: =E16+F16 -> 0
G17: =E17+F17 -> 0
G18: =E18+F18 -> 0
G19: =E19+F19 -> 0
G20: =E20+F20 -> 0
G21: =E21+F21 -> 0
G22: =E22+F22 -> 0
G23: =E23+F23 -> 0
G24: =E24+F24 -> 0
... G47: =E47+F47 -> 0
A48: UKUPNO PROSINAC 2026.: | E48: =SUM(E13:E47) -> 0 | F48: =SUM(F13:F47) -> 0 | G48: =SUM(G13:G47) -> 0

Sheet Godišnji pregled
A1: GODIŠNJI PREGLED PRIMITAKA 2026.
A3: Mjesec | B3: Gotovina / čekovi (EUR) | C3: Bezgotovinsko (EUR) | D3: Ukupno (EUR)
A4: Siječanj | B4: =Siječanj!E48 -> 0 | C4: =Siječanj!F48 -> 0 | D4: =Siječanj!G48 -> 0
A5: Veljača | B5: =Veljača!E48 -> 0 | C5: =Veljača!F48 -> 0 | D5: =Veljača!G48 -> 0
A6: Ožujak | B6: =Ožujak!E48 -> 0 | C6: =Ožujak!F48 -> 0 | D6: =Ožujak!G48 -> 0
A7: Travanj | B7: =Travanj!E48 -> 0 | C7: =Travanj!F48 -> 0 | D7: =Travanj!G48 -> 0
A8: Svibanj | B8: =Svibanj!E48 -> 0 | C8: =Svibanj!F48 -> 0 | D8: =Svibanj!G48 -> 0
A9: Lipanj | B9: =Lipanj!E48 -> 0 | C9: =Lipanj!F48 -> 0 | D9: =Lipanj!G48 -> 0
A10: Srpanj | B10: =Srpanj!E48 -> 0 | C10: =Srpanj!F48 -> 0 | D10: =Srpanj!G48 -> 0
A11: Kolovoz | B11: =Kolovoz!E48 -> 0 | C11: =Kolovoz!F48 -> 0 | D11: =Kolovoz!G48 -> 0
A12: Rujan | B12: =Rujan!E48 -> 0 | C12: =Rujan!F48 -> 0 | D12: =Rujan!G48 -> 0
A13: Listopad | B13: =Listopad!E48 -> 0 | C13: =Listopad!F48 -> 0 | D13: =Listopad!G48 -> 0
A14: Studeni | B14: =Studeni!E48 -> 0 | C14: =Studeni!F48 -> 0 | D14: =Studeni!G48 -> 0
A15: Prosinac | B15: =Prosinac!E48 -> 0 | C15: =Prosinac!F48 -> 0 | D15: =Prosinac!G48 -> 0
A16: UKUPNO 2026. | B16: =SUM(B4:B15) -> 0 | C16: =SUM(C4:C15) -> 0 | D16: =SUM(D4:D15) -> 0
A18: Prag za paušalno oporezivanje 2026.: 39.816,84 EUR godišnje
A19: Ako primitci prijeđu ovaj iznos, obvezni ste prijeći na redovni obrt.
